BEGIN:VCALENDAR
PRODID:-//dvv-bw.de//dvv.Portalplattform//DE
VERSION:2.0
METHOD:PUBLISH
BEGIN:VEVENT
DTSTART:20260501T080000Z
DTEND:20260501T100000Z
DTSTAMP:20260421T145053Z
UID:8592618-8592518-1777586400000
SUMMARY:Maihock
LOCATION:Vereinsgelände des Schäferhundevereins\, Im Ried
DESCRIPTION:Maihock
CLASS:PUBLIC
X-ALT-DESC;FMTTYPE=text/html:Maihock
END:VEVENT
BEGIN:VEVENT
DTSTART:20260501T090000Z
DTEND:20260501T110000Z
DTSTAMP:20260421T145053Z
UID:8592617-8592517-1777586400000
SUMMARY:Maihock
LOCATION:Schützenhaus Bötzingen (Tiefental)
DESCRIPTION:Maihock
CLASS:PUBLIC
X-ALT-DESC;FMTTYPE=text/html:Maihock
END:VEVENT
BEGIN:VEVENT
DTSTART:20260506T173000Z
DTEND:20260506T193000Z
DTSTAMP:20260421T145053Z
UID:8893700-8893600-1778018400000
SUMMARY:Mitgliederversammlung
LOCATION:Fa. H.G. Hauri Mineralstoffwerke KG\, Bergstraße 114
DESCRIPTION:Mitgliederversammlung
CLASS:PUBLIC
X-ALT-DESC;FMTTYPE=text/html:Mitgliederversammlung
END:VEVENT
BEGIN:VEVENT
DTSTART:20260509T090000Z
DTEND:20260509T110000Z
DTSTAMP:20260421T145053Z
UID:8592619-8592519-1778277600000
SUMMARY:Mopedtreffen
LOCATION:Schützenhaus Bötzingen (Tiefental)
DESCRIPTION:Mopedtreffen
CLASS:PUBLIC
X-ALT-DESC;FMTTYPE=text/html:Mopedtreffen
END:VEVENT
BEGIN:VEVENT
DTSTART:20260512T170000Z
DTEND:20260512T190000Z
DTSTAMP:20260421T145053Z
UID:8627656-8627556-1778536800000
SUMMARY:Öffentliche Sitzung des Gemeinderates
LOCATION:Rathaus Bürgersaal\, Hauptstraße 11
DESCRIPTION:Öffentliche Sitzung des Gemeinderates
CLASS:PUBLIC
X-ALT-DESC;FMTTYPE=text/html:Öffentliche Sitzung des Gemeinderates
END:VEVENT
BEGIN:VEVENT
DTSTART:20260514T090000Z
DTEND:20260514T110000Z
DTSTAMP:20260421T145053Z
UID:8592621-8592521-1778709600000
SUMMARY:Vatertagshock
LOCATION:Hohrainbuckhütte
DESCRIPTION:Vatertagshock
CLASS:PUBLIC
X-ALT-DESC;FMTTYPE=text/html:Vatertagshock
END:VEVENT
END:VCALENDAR
